BEGIN:VCALENDAR
VERSION:2.0
PRODID:icalendar-ruby
CALSCALE:GREGORIAN
METHOD:PUBLISH
BEGIN:VEVENT
DTSTAMP:20260426T021702Z
UID:6-1128006@allsaints228.tithelysetup5.com
DTSTART:20261011T143000Z
DTEND:20261011T153000Z
CLASS:PUBLIC
CREATED:20260425T192010
DESCRIPTION:This service is quiet\, contemplative\, and intimate. It is ent
 irely spoken and follows the order of service found in the Book of Common 
 Prayer (BCP)\, the traditional prayer book of the Anglican Church. The ser
 vice includes prayers\, readings from the Old and New Testaments of the Bi
 ble\, a homily\, and Holy Communion.
LAST-MODIFIED:20260425T192010
LOCATION:
SUMMARY:Holy Communion (BCP Service)
URL;VALUE=URI:https://www.allsaintscathedral.ca/events/holy-communion-bcp-s
 ervice/2026-10-11
ATTACH;FILENAME=Copy-of-Sunday-Mass-Catholic-Church-Facebook-Post-%281%29.p
 ng;FMTTYPE=image/png:https://dq5pwpg1q8ru0.cloudfront.net/2023/11/20/13/12
 /15/305d027d-e8d7-4f53-93b0-f6c386a33ae0/Copy-of-Sunday-Mass-Catholic-Chur
 ch-Facebook-Post-%25281%2529.png
END:VEVENT
END:VCALENDAR
